30.00000000000000
0.00000000000000
0.00000000000000
-30.00000000000000
-10110.74699999999900
-390911.48599999998000
